BEGIN:VCALENDAR
VERSION:2.0
PRODID:-//Montessori Schule Wiesbaden - ECPv6.14.2//NONSGML v1.0//EN
CALSCALE:GREGORIAN
METHOD:PUBLISH
X-ORIGINAL-URL:https://dev.montessori-schule-wiesbaden.de
X-WR-CALDESC:Veranstaltungen für Montessori Schule Wiesbaden
REFRESH-INTERVAL;VALUE=DURATION:PT1H
X-Robots-Tag:noindex
X-PUBLISHED-TTL:PT1H
BEGIN:VTIMEZONE
TZID:Europe/Berlin
BEGIN:DAYLIGHT
TZOFFSETFROM:+0100
TZOFFSETTO:+0200
TZNAME:CEST
DTSTART:20230326T010000
END:DAYLIGHT
BEGIN:STANDARD
TZOFFSETFROM:+0200
TZOFFSETTO:+0100
TZNAME:CET
DTSTART:20231029T010000
END:STANDARD
BEGIN:DAYLIGHT
TZOFFSETFROM:+0100
TZOFFSETTO:+0200
TZNAME:CEST
DTSTART:20240331T010000
END:DAYLIGHT
BEGIN:STANDARD
TZOFFSETFROM:+0200
TZOFFSETTO:+0100
TZNAME:CET
DTSTART:20241027T010000
END:STANDARD
BEGIN:DAYLIGHT
TZOFFSETFROM:+0100
TZOFFSETTO:+0200
TZNAME:CEST
DTSTART:20250330T010000
END:DAYLIGHT
BEGIN:STANDARD
TZOFFSETFROM:+0200
TZOFFSETTO:+0100
TZNAME:CET
DTSTART:20251026T010000
END:STANDARD
END:VTIMEZONE
BEGIN:VEVENT
DTSTART;VALUE=DATE:20250530
DTEND;VALUE=DATE:20250531
DTSTAMP:20260419T163322
CREATED:20241031T094048Z
LAST-MODIFIED:20250526T075212Z
UID:3993-1748563200-1748649599@dev.montessori-schule-wiesbaden.de
SUMMARY:Monti geschlossen - Brückentag
DESCRIPTION:
URL:https://dev.montessori-schule-wiesbaden.de/termin/brueckentag-3/
CATEGORIES:Administratives
END:VEVENT
BEGIN:VEVENT
DTSTART;VALUE=DATE:20250502
DTEND;VALUE=DATE:20250503
DTSTAMP:20260419T163322
CREATED:20241009T073750Z
LAST-MODIFIED:20250526T075422Z
UID:3991-1746144000-1746230399@dev.montessori-schule-wiesbaden.de
SUMMARY:Monti geschlossen - Pädagogischer Tag
DESCRIPTION:
URL:https://dev.montessori-schule-wiesbaden.de/termin/paedagogischer-tag/
CATEGORIES:Administratives
END:VEVENT
BEGIN:VEVENT
DTSTART;VALUE=DATE:20240828
DTEND;VALUE=DATE:20240829
DTSTAMP:20260419T163322
CREATED:20231025T115830Z
LAST-MODIFIED:20231010T092007Z
UID:1640-1724803200-1724889599@dev.montessori-schule-wiesbaden.de
SUMMARY:Einschulung Erstklässler
DESCRIPTION:
URL:https://dev.montessori-schule-wiesbaden.de/termin/einschulung-erstklaessler/
LOCATION:Montessori Schule Wiesbaden\, Butterblumenweg 5\, Wiesbaden\, Hessen\, 65201\, Deutschland
CATEGORIES:Administratives
ORGANIZER;CN="Montessori Schule Wiesbaden":MAILTO:info@montessori-schule-wiesbaden.de
END:VEVENT
BEGIN:VEVENT
DTSTART;VALUE=DATE:20240531
DTEND;VALUE=DATE:20240601
DTSTAMP:20260419T163322
CREATED:20231009T103940Z
LAST-MODIFIED:20240203T224148Z
UID:1626-1717113600-1717199999@dev.montessori-schule-wiesbaden.de
SUMMARY:Monti geschlossen: Brückentag
DESCRIPTION:
URL:https://dev.montessori-schule-wiesbaden.de/termin/brueckentag-2/
CATEGORIES:Administratives
END:VEVENT
BEGIN:VEVENT
DTSTART;VALUE=DATE:20240522
DTEND;VALUE=DATE:20240525
DTSTAMP:20260419T163322
CREATED:20240203T223210Z
LAST-MODIFIED:20240203T223102Z
UID:3086-1716336000-1716595199@dev.montessori-schule-wiesbaden.de
SUMMARY:Opal: Klassenfahrt
DESCRIPTION:Klassenfahrt der Opal-Gruppe
URL:https://dev.montessori-schule-wiesbaden.de/termin/opal-klassenfahrt/
CATEGORIES:Administratives
END:VEVENT
BEGIN:VEVENT
DTSTART;VALUE=DATE:20240510
DTEND;VALUE=DATE:20240511
DTSTAMP:20260419T163322
CREATED:20231009T103840Z
LAST-MODIFIED:20240203T224132Z
UID:1620-1715299200-1715385599@dev.montessori-schule-wiesbaden.de
SUMMARY:Monti geschlossen: Brückentag
DESCRIPTION:
URL:https://dev.montessori-schule-wiesbaden.de/termin/brueckentag/
CATEGORIES:Administratives
END:VEVENT
BEGIN:VEVENT
DTSTART;VALUE=DATE:20240308
DTEND;VALUE=DATE:20240309
DTSTAMP:20260419T163322
CREATED:20231009T103532Z
LAST-MODIFIED:20240203T224110Z
UID:1606-1709856000-1709942399@dev.montessori-schule-wiesbaden.de
SUMMARY:Monti geschlossen: 2. pädagogischer Tag
DESCRIPTION:
URL:https://dev.montessori-schule-wiesbaden.de/termin/2-paedagogischer-tag/
CATEGORIES:Administratives
END:VEVENT
BEGIN:VEVENT
DTSTART;VALUE=DATE:20231017
DTEND;VALUE=DATE:20231020
DTSTAMP:20260419T163322
CREATED:20231009T102138Z
LAST-MODIFIED:20231029T162557Z
UID:1584-1697500800-1697759999@dev.montessori-schule-wiesbaden.de
SUMMARY:Anmeldung zum Schuljahr 2024/25
DESCRIPTION:Geschäftsstelle mit eingeschränktem Service
URL:https://dev.montessori-schule-wiesbaden.de/termin/anmeldung-zum-schuljahr-2024-25/
LOCATION:Montessori Schule Wiesbaden\, Butterblumenweg 5\, Wiesbaden\, Hessen\, 65201\, Deutschland
CATEGORIES:Administratives
ORGANIZER;CN="Montessori Schule Wiesbaden":MAILTO:info@montessori-schule-wiesbaden.de
END:VEVENT
END:VCALENDAR