BEGIN:VCALENDAR
VERSION:2.0
PRODID:-//Montessori Schule Wiesbaden - ECPv6.14.2//NONSGML v1.0//EN
CALSCALE:GREGORIAN
METHOD:PUBLISH
X-WR-CALNAME:Montessori Schule Wiesbaden
X-ORIGINAL-URL:https://dev.montessori-schule-wiesbaden.de
X-WR-CALDESC:Events for Montessori Schule Wiesbaden
REFRESH-INTERVAL;VALUE=DURATION:PT1H
X-Robots-Tag:noindex
X-PUBLISHED-TTL:PT1H
BEGIN:VTIMEZONE
TZID:Europe/Berlin
BEGIN:DAYLIGHT
TZOFFSETFROM:+0100
TZOFFSETTO:+0200
TZNAME:CEST
DTSTART:20230326T010000
END:DAYLIGHT
BEGIN:STANDARD
TZOFFSETFROM:+0200
TZOFFSETTO:+0100
TZNAME:CET
DTSTART:20231029T010000
END:STANDARD
BEGIN:DAYLIGHT
TZOFFSETFROM:+0100
TZOFFSETTO:+0200
TZNAME:CEST
DTSTART:20240331T010000
END:DAYLIGHT
BEGIN:STANDARD
TZOFFSETFROM:+0200
TZOFFSETTO:+0100
TZNAME:CET
DTSTART:20241027T010000
END:STANDARD
END:VTIMEZONE
BEGIN:VEVENT
DTSTART;TZID=Europe/Berlin:20240217T100000
DTEND;TZID=Europe/Berlin:20240217T140000
DTSTAMP:20260420T170347
CREATED:20231009T103458Z
LAST-MODIFIED:20231029T163322Z
UID:1997-1708164000-1708178400@dev.montessori-schule-wiesbaden.de
SUMMARY:Open House Day (2)
DESCRIPTION:
URL:https://dev.montessori-schule-wiesbaden.de/en/termin/open-house-day-2/
LOCATION:Montessori Schule Wiesbaden\, Butterblumenweg 5\, Wiesbaden\, Hessen\, 65201\, Deutschland
CATEGORIES:Event
ORGANIZER;CN="Montessori Schule Wiesbaden":MAILTO:info@montessori-schule-wiesbaden.de
END:VEVENT
BEGIN:VEVENT
DTSTART;TZID=Europe/Berlin:20231212T180000
DTEND;TZID=Europe/Berlin:20231212T200000
DTSTAMP:20260420T170347
CREATED:20231009T102433Z
LAST-MODIFIED:20231029T163504Z
UID:2002-1702404000-1702411200@dev.montessori-schule-wiesbaden.de
SUMMARY:School tour for interested parents
DESCRIPTION:
URL:https://dev.montessori-schule-wiesbaden.de/en/termin/school-tour-for-interested-parents/
LOCATION:Montessori Schule Wiesbaden\, Butterblumenweg 5\, Wiesbaden\, Hessen\, 65201\, Deutschland
CATEGORIES:Event
ORGANIZER;CN="Montessori Schule Wiesbaden":MAILTO:info@montessori-schule-wiesbaden.de
END:VEVENT
BEGIN:VEVENT
DTSTART;VALUE=DATE:20231113
DTEND;VALUE=DATE:20231118
DTSTAMP:20260420T170347
CREATED:20231009T102258Z
LAST-MODIFIED:20231029T163518Z
UID:2003-1699833600-1700265599@dev.montessori-schule-wiesbaden.de
SUMMARY:4th graders: swimming camp
DESCRIPTION:
URL:https://dev.montessori-schule-wiesbaden.de/en/termin/4th-graders-swimming-camp/
CATEGORIES:Event
ORGANIZER;CN="Montessori Schule Wiesbaden":MAILTO:info@montessori-schule-wiesbaden.de
END:VEVENT
BEGIN:VEVENT
DTSTART;VALUE=DATE:20231019
DTEND;VALUE=DATE:20231020
DTSTAMP:20260420T170347
CREATED:20231009T102207Z
LAST-MODIFIED:20231029T163527Z
UID:2005-1697673600-1697759999@dev.montessori-schule-wiesbaden.de
SUMMARY:Orienteering competition for 4th graders
DESCRIPTION:
URL:https://dev.montessori-schule-wiesbaden.de/en/termin/orienteering-competition-for-4th-graders/
CATEGORIES:Event
END:VEVENT
BEGIN:VEVENT
DTSTART;TZID=Europe/Berlin:20231014T100000
DTEND;TZID=Europe/Berlin:20231014T140000
DTSTAMP:20260420T170347
CREATED:20231009T102018Z
LAST-MODIFIED:20231029T163928Z
UID:2007-1697277600-1697292000@dev.montessori-schule-wiesbaden.de
SUMMARY:Open House Day (1)
DESCRIPTION:On 14.10.2023 from 10 AM – 2 PM we will open our premises for interested visitors. We will answer all your questions and provide individual advice for pre-school\, enrolment and lateral entry. \n11:30 AM: Informative lecture on the pedagogical concept of our school. \n1:30 PM: Insight into our experimental course and musical finale. \nWe look forward to meeting you!
URL:https://dev.montessori-schule-wiesbaden.de/en/termin/open-house-day-1/
LOCATION:Montessori Schule Wiesbaden\, Butterblumenweg 5\, Wiesbaden\, Hessen\, 65201\, Deutschland
CATEGORIES:Event
ORGANIZER;CN="Montessori Schule Wiesbaden":MAILTO:info@montessori-schule-wiesbaden.de
END:VEVENT
END:VCALENDAR